BEGIN:VCALENDAR
VERSION:2.0
PRODID:-//The Peasant&#039;s Manor Farm - ECPv6.15.20//NONSGML v1.0//EN
CALSCALE:GREGORIAN
METHOD:PUBLISH
X-ORIGINAL-URL:https://thepeasantsmanorfarm.com
X-WR-CALDESC:Events for The Peasant&#039;s Manor Farm
REFRESH-INTERVAL;VALUE=DURATION:PT1H
X-Robots-Tag:noindex
X-PUBLISHED-TTL:PT1H
BEGIN:VTIMEZONE
TZID:America/Denver
BEGIN:DAYLIGHT
TZOFFSETFROM:-0700
TZOFFSETTO:-0600
TZNAME:MDT
DTSTART:20240310T090000
END:DAYLIGHT
BEGIN:STANDARD
TZOFFSETFROM:-0600
TZOFFSETTO:-0700
TZNAME:MST
DTSTART:20241103T080000
END:STANDARD
BEGIN:DAYLIGHT
TZOFFSETFROM:-0700
TZOFFSETTO:-0600
TZNAME:MDT
DTSTART:20250309T090000
END:DAYLIGHT
BEGIN:STANDARD
TZOFFSETFROM:-0600
TZOFFSETTO:-0700
TZNAME:MST
DTSTART:20251102T080000
END:STANDARD
BEGIN:DAYLIGHT
TZOFFSETFROM:-0700
TZOFFSETTO:-0600
TZNAME:MDT
DTSTART:20260308T090000
END:DAYLIGHT
BEGIN:STANDARD
TZOFFSETFROM:-0600
TZOFFSETTO:-0700
TZNAME:MST
DTSTART:20261101T080000
END:STANDARD
END:VTIMEZONE
BEGIN:VEVENT
DTSTART;TZID=America/Denver:20250201T130000
DTEND;TZID=America/Denver:20250201T150000
DTSTAMP:20260424T095224
CREATED:20250125T200604Z
LAST-MODIFIED:20250125T200609Z
UID:1293-1738414800-1738422000@thepeasantsmanorfarm.com
SUMMARY:Hand Plane Basics
DESCRIPTION:
URL:https://thepeasantsmanorfarm.com/event/hand-plane-basics-2/
LOCATION:The Peasant’s Manor Farm\, 952 West 4800 South\, Preston\, ID\, 83263\, United States
ORGANIZER;CN="Kelsey J Bacon":MAILTO:me@kelseybacon.com
END:VEVENT
BEGIN:VEVENT
DTSTART;TZID=America/Denver:20250201T130000
DTEND;TZID=America/Denver:20250201T143000
DTSTAMP:20260424T095224
CREATED:20250118T024806Z
LAST-MODIFIED:20250130T221219Z
UID:1245-1738414800-1738420200@thepeasantsmanorfarm.com
SUMMARY:Basic Beeswax Candle Making
DESCRIPTION:This class will teach how to dip or mold a taper candle\, using practices that the instructor uses in his own candle making business. You will be able to either dip or mold a beeswax taper candle by the end of this class\, and have an idea of what materials you will need to purchase to do so at home.  Your price includes the candles you make in class for you to take home.
URL:https://thepeasantsmanorfarm.com/event/beeswax-taper-candle-making-class/
LOCATION:The Peasant’s Manor Farm\, 952 West 4800 South\, Preston\, ID\, 83263\, United States
CATEGORIES:Group Course,One on One Class
ORGANIZER;CN="Kelsey J Bacon":MAILTO:me@kelseybacon.com
END:VEVENT
BEGIN:VEVENT
DTSTART;TZID=America/Denver:20250123T130000
DTEND;TZID=America/Denver:20250123T150000
DTSTAMP:20260424T095224
CREATED:20250118T170128Z
LAST-MODIFIED:20250119T201850Z
UID:1261-1737637200-1737644400@thepeasantsmanorfarm.com
SUMMARY:Hand Plane Basics
DESCRIPTION:Learn the mysteries of the hand plane\, how to tune and use a hand plane and smooth and square a rough cut piece of lumber for use in a project.
URL:https://thepeasantsmanorfarm.com/event/hand-plane-basics/
LOCATION:The Peasant’s Manor Farm\, 952 West 4800 South\, Preston\, ID\, 83263\, United States
ORGANIZER;CN="Kelsey J Bacon":MAILTO:me@kelseybacon.com
END:VEVENT
END:VCALENDAR